BEGIN:VCALENDAR
VERSION:2.0
PRODID:-//Chinook Area Chamber of Commerce - ECPv6.15.20//NONSGML v1.0//EN
CALSCALE:GREGORIAN
METHOD:PUBLISH
X-WR-CALNAME:Chinook Area Chamber of Commerce
X-ORIGINAL-URL:https://chinookmontana.com
X-WR-CALDESC:Events for Chinook Area Chamber of Commerce
REFRESH-INTERVAL;VALUE=DURATION:PT1H
X-Robots-Tag:noindex
X-PUBLISHED-TTL:PT1H
BEGIN:VTIMEZONE
TZID:America/Denver
BEGIN:DAYLIGHT
TZOFFSETFROM:-0700
TZOFFSETTO:-0600
TZNAME:MDT
DTSTART:20250309T090000
END:DAYLIGHT
BEGIN:STANDARD
TZOFFSETFROM:-0600
TZOFFSETTO:-0700
TZNAME:MST
DTSTART:20251102T080000
END:STANDARD
BEGIN:DAYLIGHT
TZOFFSETFROM:-0700
TZOFFSETTO:-0600
TZNAME:MDT
DTSTART:20260308T090000
END:DAYLIGHT
BEGIN:STANDARD
TZOFFSETFROM:-0600
TZOFFSETTO:-0700
TZNAME:MST
DTSTART:20261101T080000
END:STANDARD
BEGIN:DAYLIGHT
TZOFFSETFROM:-0700
TZOFFSETTO:-0600
TZNAME:MDT
DTSTART:20270314T090000
END:DAYLIGHT
BEGIN:STANDARD
TZOFFSETFROM:-0600
TZOFFSETTO:-0700
TZNAME:MST
DTSTART:20271107T080000
END:STANDARD
END:VTIMEZONE
BEGIN:VEVENT
DTSTART;TZID=America/Denver:20260421T183000
DTEND;TZID=America/Denver:20260421T193000
DTSTAMP:20260421T052234
CREATED:20260327T162613Z
LAST-MODIFIED:20260421T111757Z
UID:10855-1776796200-1776799800@chinookmontana.com
SUMMARY:Lions Club Meeting
DESCRIPTION:Regular monthly meeting of Chinook Lions Club at the Grande Villa Meeting Room.  Third Tuesday of each month.  Location may change.
URL:https://chinookmontana.com/event/lions-club-meeting-23/
LOCATION:Grande Villa Meeting Room\, 301 Pennsylvania Street\, Chinook\, 59523\, United States
CATEGORIES:Meetings
ATTACH;FMTTYPE=image/png:https://chinookmontana.com/wp-content/uploads/2023/10/LC3-QrMmRB.tmp_.png
ORGANIZER;CN="Chinook Lions Club":MAILTO:jack_mattingly@yahoo.com
END:VEVENT
END:VCALENDAR